BEGIN:VCALENDAR
VERSION:2.0
PRODID:-//Gladmo252 - ECPv6.15.20//NONSGML v1.0//EN
CALSCALE:GREGORIAN
METHOD:PUBLISH
X-WR-CALNAME:Gladmo252
X-ORIGINAL-URL:https://gladmo252.de
X-WR-CALDESC:Veranstaltungen für Gladmo252
REFRESH-INTERVAL;VALUE=DURATION:PT1H
X-Robots-Tag:noindex
X-PUBLISHED-TTL:PT1H
BEGIN:VTIMEZONE
TZID:Europe/Berlin
BEGIN:DAYLIGHT
TZOFFSETFROM:+0100
TZOFFSETTO:+0200
TZNAME:CEST
DTSTART:20200329T010000
END:DAYLIGHT
BEGIN:STANDARD
TZOFFSETFROM:+0200
TZOFFSETTO:+0100
TZNAME:CET
DTSTART:20201025T010000
END:STANDARD
BEGIN:DAYLIGHT
TZOFFSETFROM:+0100
TZOFFSETTO:+0200
TZNAME:CEST
DTSTART:20210328T010000
END:DAYLIGHT
BEGIN:STANDARD
TZOFFSETFROM:+0200
TZOFFSETTO:+0100
TZNAME:CET
DTSTART:20211031T010000
END:STANDARD
BEGIN:DAYLIGHT
TZOFFSETFROM:+0100
TZOFFSETTO:+0200
TZNAME:CEST
DTSTART:20220327T010000
END:DAYLIGHT
BEGIN:STANDARD
TZOFFSETFROM:+0200
TZOFFSETTO:+0100
TZNAME:CET
DTSTART:20221030T010000
END:STANDARD
END:VTIMEZONE
BEGIN:VEVENT
DTSTART;TZID=Europe/Berlin:20211223T190000
DTEND;TZID=Europe/Berlin:20211223T223000
DTSTAMP:20260420T105723
CREATED:20211001T152616Z
LAST-MODIFIED:20221212T081226Z
UID:5058-1640286000-1640298600@gladmo252.de
SUMMARY:2392 Männer sind die wahren Engel
DESCRIPTION:Der Inhalt ist geschützt.
URL:https://gladmo252.de/event/2392-maenner-sind-die-wahren-engel/
LOCATION:Gero Burg\, Haus Erholung\, Johann-Peter-Boelling-Platz 1\, Mönchengladbach\, 41061\, Deutschland
CATEGORIES:Sippung
END:VEVENT
BEGIN:VEVENT
DTSTART;TZID=Europe/Berlin:20211216T190000
DTEND;TZID=Europe/Berlin:20211216T223000
DTSTAMP:20260420T105723
CREATED:20211001T152428Z
LAST-MODIFIED:20211213T154013Z
UID:5055-1639681200-1639693800@gladmo252.de
SUMMARY:2391 Schlaraffiade *  Die Fechsung\, die ich nie fechsen wollte
DESCRIPTION:Der Inhalt ist geschützt.
URL:https://gladmo252.de/event/2391-schlaraffiade-die-fechsung-die-ich-nie-fechsen-wollte/
LOCATION:Gero Burg\, Haus Erholung\, Johann-Peter-Boelling-Platz 1\, Mönchengladbach\, 41061\, Deutschland
CATEGORIES:Sippung
END:VEVENT
BEGIN:VEVENT
DTSTART;TZID=Europe/Berlin:20211209T190000
DTEND;TZID=Europe/Berlin:20211209T220000
DTSTAMP:20260420T105723
CREATED:20211202T224743Z
LAST-MODIFIED:20211209T082424Z
UID:5472-1639076400-1639087200@gladmo252.de
SUMMARY:Kristalline mit Feuerzangenbowle
DESCRIPTION:Der Inhalt ist geschützt.
URL:https://gladmo252.de/event/kristalline-mit-feuerzangenbowle/
LOCATION:Gero Burg\, Haus Erholung\, Johann-Peter-Boelling-Platz 1\, Mönchengladbach\, 41061\, Deutschland
END:VEVENT
BEGIN:VEVENT
DTSTART;TZID=Europe/Berlin:20211202T190000
DTEND;TZID=Europe/Berlin:20211202T223000
DTSTAMP:20260420T105723
CREATED:20211001T152143Z
LAST-MODIFIED:20221201T111045Z
UID:5052-1638471600-1638484200@gladmo252.de
SUMMARY:2390 Einritt dhR Duisbargum 242 Niers trutzt Rhein
DESCRIPTION:Der Inhalt ist geschützt.
URL:https://gladmo252.de/event/2390-einritt-dhr-duisbargum-242-niers-trutzt-rhein/
LOCATION:Gero Burg\, Haus Erholung\, Johann-Peter-Boelling-Platz 1\, Mönchengladbach\, 41061\, Deutschland
CATEGORIES:Sippung
END:VEVENT
BEGIN:VEVENT
DTSTART;TZID=Europe/Berlin:20211125T190000
DTEND;TZID=Europe/Berlin:20211125T223000
DTSTAMP:20260420T105723
CREATED:20211001T151948Z
LAST-MODIFIED:20211124T161152Z
UID:5049-1637866800-1637879400@gladmo252.de
SUMMARY:2389 12. Turney zur Landstreicherkette (Mundartsippung) – Platt ist nicht platt
DESCRIPTION:Der Inhalt ist geschützt.
URL:https://gladmo252.de/event/2389-12-turney-zur-landstreicherkette-mundartsippung-platt-ist-nicht-platt/
LOCATION:Gero Burg\, Haus Erholung\, Johann-Peter-Boelling-Platz 1\, Mönchengladbach\, 41061\, Deutschland
CATEGORIES:Sippung
END:VEVENT
BEGIN:VEVENT
DTSTART;TZID=Europe/Berlin:20211118T190000
DTEND;TZID=Europe/Berlin:20211118T223000
DTSTAMP:20260420T105723
CREATED:20211001T151805Z
LAST-MODIFIED:20211117T203943Z
UID:5046-1637262000-1637274600@gladmo252.de
SUMMARY:2388 Einritt: dhR Im Vest 373 + P.Arduennae 367 Drei ist mehr als (k)einer – Dreiersippung
DESCRIPTION:Der Inhalt ist geschützt.
URL:https://gladmo252.de/event/2388-einritt-dhr-im-vest-373-p-arduennae-367-drei-ist-mehr-als-keiner-dreiersippung/
LOCATION:Gero Burg\, Haus Erholung\, Johann-Peter-Boelling-Platz 1\, Mönchengladbach\, 41061\, Deutschland
CATEGORIES:Sippung
END:VEVENT
BEGIN:VEVENT
DTSTART;TZID=Europe/Berlin:20211111T190000
DTEND;TZID=Europe/Berlin:20211111T220000
DTSTAMP:20260420T105723
CREATED:20211001T151558Z
LAST-MODIFIED:20211105T072155Z
UID:5043-1636657200-1636668000@gladmo252.de
SUMMARY:2387 Erzähl mir deinen Traum
DESCRIPTION:Der Inhalt ist geschützt.
URL:https://gladmo252.de/event/2387-erzaehl-mir-deinen-traum/
LOCATION:Gero Burg\, Haus Erholung\, Johann-Peter-Boelling-Platz 1\, Mönchengladbach\, 41061\, Deutschland
CATEGORIES:Sippung
END:VEVENT
BEGIN:VEVENT
DTSTART;TZID=Europe/Berlin:20211104T190000
DTEND;TZID=Europe/Berlin:20211104T223000
DTSTAMP:20260420T105723
CREATED:20211001T151341Z
LAST-MODIFIED:20211104T104049Z
UID:5040-1636052400-1636065000@gladmo252.de
SUMMARY:2386 Schlaraffiade*    Ahallafeyer ***
DESCRIPTION:Der Inhalt ist geschützt.
URL:https://gladmo252.de/event/2386-schlaraffiade-ahallafeyer/
LOCATION:Gero Burg\, Haus Erholung\, Johann-Peter-Boelling-Platz 1\, Mönchengladbach\, 41061\, Deutschland
CATEGORIES:Sippung
END:VEVENT
BEGIN:VEVENT
DTSTART;TZID=Europe/Berlin:20211028T190000
DTEND;TZID=Europe/Berlin:20211028T223000
DTSTAMP:20260420T105723
CREATED:20210924T115016Z
LAST-MODIFIED:20211028T114552Z
UID:4970-1635447600-1635460200@gladmo252.de
SUMMARY:2385 GU3b + 40J Tresorius\, GU3b Rt Läppchen\,  Urs1b Bin dann mal still; Rt Flatulus 
DESCRIPTION:Der Inhalt ist geschützt.
URL:https://gladmo252.de/event/2385-gu3b-40j-tresorius-gu3b-rt-laeppchen-urs1b-bin-dann-mal-still-rt-flatulus/
LOCATION:Gero Burg\, Haus Erholung\, Johann-Peter-Boelling-Platz 1\, Mönchengladbach\, 41061\, Deutschland
CATEGORIES:Sippung
END:VEVENT
BEGIN:VEVENT
DTSTART;TZID=Europe/Berlin:20211021T190000
DTEND;TZID=Europe/Berlin:20211021T223000
DTSTAMP:20260420T105723
CREATED:20210924T114804Z
LAST-MODIFIED:20210925T101535Z
UID:4967-1634842800-1634855400@gladmo252.de
SUMMARY:2384  Fit im Alter – mit welchem Schritt geht das?
DESCRIPTION:Der Inhalt ist geschützt.
URL:https://gladmo252.de/event/2384-fit-im-alter-mit-welchem-schritt-geht-das/
LOCATION:Gero Burg\, Haus Erholung\, Johann-Peter-Boelling-Platz 1\, Mönchengladbach\, 41061\, Deutschland
CATEGORIES:Sippung
END:VEVENT
BEGIN:VEVENT
DTSTART;TZID=Europe/Berlin:20211014T190000
DTEND;TZID=Europe/Berlin:20211014T223000
DTSTAMP:20260420T105723
CREATED:20210924T080645Z
LAST-MODIFIED:20230322T165422Z
UID:4944-1634238000-1634250600@gladmo252.de
SUMMARY:2383 So\, jetzt seid Ihr dran …
DESCRIPTION:Der Inhalt ist geschützt.
URL:https://gladmo252.de/event/2383-so-jetzt-seid-ihr-dran/
LOCATION:Gero Burg\, Haus Erholung\, Johann-Peter-Boelling-Platz 1\, Mönchengladbach\, 41061\, Deutschland
CATEGORIES:Sippung
END:VEVENT
BEGIN:VEVENT
DTSTART;TZID=Europe/Berlin:20211007T190000
DTEND;TZID=Europe/Berlin:20211007T223000
DTSTAMP:20260420T105723
CREATED:20210924T060157Z
LAST-MODIFIED:20211007T092740Z
UID:4918-1633633200-1633645800@gladmo252.de
SUMMARY:2382 Eröffnungsschlaraffiade * Am Anfang war die Kugelung
DESCRIPTION:Der Inhalt ist geschützt.
URL:https://gladmo252.de/event/2382-eroeffnungsschlaraffiade-am-anfang-war-die-kugelung/
LOCATION:Gero Burg\, Haus Erholung\, Johann-Peter-Boelling-Platz 1\, Mönchengladbach\, 41061\, Deutschland
CATEGORIES:Sippung
END:VEVENT
END:VCALENDAR